BEGIN:VCALENDAR
VERSION:2.0
PRODID:-//DiverseWorks - ECPv6.15.20//NONSGML v1.0//EN
CALSCALE:GREGORIAN
METHOD:PUBLISH
X-WR-CALNAME:DiverseWorks
X-ORIGINAL-URL:https://diverseworks.org
X-WR-CALDESC:Events for DiverseWorks
REFRESH-INTERVAL;VALUE=DURATION:PT1H
X-Robots-Tag:noindex
X-PUBLISHED-TTL:PT1H
BEGIN:VTIMEZONE
TZID:America/Chicago
BEGIN:DAYLIGHT
TZOFFSETFROM:-0600
TZOFFSETTO:-0500
TZNAME:CDT
DTSTART:20250309T080000
END:DAYLIGHT
BEGIN:STANDARD
TZOFFSETFROM:-0500
TZOFFSETTO:-0600
TZNAME:CST
DTSTART:20251102T070000
END:STANDARD
BEGIN:DAYLIGHT
TZOFFSETFROM:-0600
TZOFFSETTO:-0500
TZNAME:CDT
DTSTART:20260308T080000
END:DAYLIGHT
BEGIN:STANDARD
TZOFFSETFROM:-0500
TZOFFSETTO:-0600
TZNAME:CST
DTSTART:20261101T070000
END:STANDARD
BEGIN:DAYLIGHT
TZOFFSETFROM:-0600
TZOFFSETTO:-0500
TZNAME:CDT
DTSTART:20270314T080000
END:DAYLIGHT
BEGIN:STANDARD
TZOFFSETFROM:-0500
TZOFFSETTO:-0600
TZNAME:CST
DTSTART:20271107T070000
END:STANDARD
END:VTIMEZONE
BEGIN:VEVENT
DTSTART;VALUE=DATE:20261003
DTEND;VALUE=DATE:20261025
DTSTAMP:20260423T164051
CREATED:20260423T185618Z
LAST-MODIFIED:20260423T185902Z
UID:24724-1791028800-1792843199@diverseworks.org
SUMMARY:OVERFLOW RADIO: Šakotayišol Nunuš Constellation
DESCRIPTION:October 3-24\, 2026DiverseWorks Gallery @ MATCHGallery Hours: 12 noon – 6 pm\, Thursday-Saturday\nCelebrated for her large-scale social choreographies\, Emily Johnson / Catalyst’s newest project\, Overflow Radio is a performance\, skill-share\, planting of 1000 trees\, and radio transmission from across territories. \nIn conjunction with the world premiere of Overflow Radio in Mni Sóta Makoce (Minneapolis)\, DiverseWorks hosts an Overflow Radio: Šakotayišol Nunuš Constellation here in Houston. Over 24 non-consecutive hours\, we will gather in-person to listen to twelve First Nations and Indigenous authors\, poets\, and scholars live-broadcasting from their home territories and First Nations. We’ll pay attention to other scales\, other forms\, other knowledges. We’ll traverse together\, transcending colonial borders\, languages and time. We’ll feast and celebrate the making of community\, as we practice our shared commitment to creating our possible futures\, as we gather what we need to know. \nThe program is developed in collaboration with Emily Johnson and local Indigenous and Native artists to include talks\, skill-shares\, listening gatherings\, an exhibition\, and performances by Aveda Adara\, Chiara Beaumont\, ChiChi\, Karen Navarro\, Aryn Ward and Monica Villarreal\, with additional participating artists and community partners to be announced. \nThe project is co-organized by DiverseWorks\, Emily Johnson / Catalyst and the participating artists and partners. \nPrograms (please check back for updated information)DW Art + Climate CONVERSATIONS: Emily Johnson\, 6:30 pm July 29Opening Event and Reception: 5 – 8 pm\, October 3Listening Gatherings: 12noon – 6 pm (specific hours TBD)\, October 9-12Diverse Discourse Lecture & Studio Visits: Mary Bourdeaux: October 16-19 / Lecture 6 pm\, Oct. 17Closing Event: TBD\, October 24 \nAcknowledgementsOverflow Radio is a National Performance Network Creation & Development Fund Project commissioned by Roy and Edna Disney / CalArts Theater (REDCAT) and co-commissioned DiverseWorks\, MASS MoCA and University of Minnesota Department of Theatre Arts & Dance\, more information at www.npnweb.org. \nOverflow Radio is developed through creative residencies provided by MASS MoCA\, John and Mabel Ringling Museum of Art\, Roy and Edna Disney / CalArts Theater\, University of Minnesota’s Imagine Fund with support from the McKnight Foundation\, and Danspace Project with support from the New York State DanceForce\, a partnership program of the New York State Council on the Arts. \nOverflow Radio is created with generous support from First Peoples Fund\, Howard Gilman Foundation\, Harkness Foundation for Dance\, and the New England Foundation for the Arts’ National Dance Project with lead funding from the Doris Duke Foundation and The Mellon Foundation. \nEmily Johnson / Catalyst is fiscally sponsored by Producer Hub. \nImage: Emily Johnson / Catalyst\, Quilt Being Star\, worn by Ty Fierce Matteba\, photo by Two Hawks Young.
URL:https://diverseworks.org/event/overflow-radio-sakotayisol-nunus-constellation/
LOCATION:DiverseWorks – Gallery @ MATCH\, 3400 Main Street\, Houston\, TX\, 77002\, United States
CATEGORIES:Exhibitions & Performances,Public Program,Special Events
ATTACH;FMTTYPE=image/png:https://diverseworks.org/wp-content/uploads/2026/04/Overflow-Radio-Calendar-size-169-copy.png
END:VEVENT
END:VCALENDAR